BEGIN:VCALENDAR
VERSION:2.0
PRODID:-//hacksw/handcal//NONSGML v1.0//EN
BEGIN:VEVENT
SUMMARY:JEUNES | PONTIVY TT1 / ES PLESCOP TT3
UID:45873cf7-c5fd-484e-9067-63b1e6d43c24
DTSTART:20260411T120000Z
DTEND:20260411T150000Z
LOCATION:Complexe sportif de Saint-Thuriau 6B Place de l'Eglise 56300 Saint-Thuriau
CATEGORIES:Sportif
STATUS:
URL;VALUE=URI:https://www.pontivy-tennisdetable.com/evenements/2026/04/11/jeunes-pontivy-tt1-es-plescop-tt3-2439956
END:VEVENT
END:VCALENDAR
