BEGIN:VCALENDAR
VERSION:2.0
PRODID:-//hacksw/handcal//NONSGML v1.0//EN
BEGIN:VEVENT
SUMMARY:J5-P2 | PONTIVY TT 5 / LANGONNET TT1
UID:b01b7846-e2ae-4846-bf4b-758bb92a144b
DTSTART:20260408T183000Z
DTEND:20260408T214500Z
LOCATION:Localisation   
CATEGORIES:Sportif
STATUS:
URL;VALUE=URI:https://www.pontivy-tennisdetable.com/evenements/2026/04/08/j5-p2-pontivy-tt-5-langonnet-tt1-2439954
END:VEVENT
END:VCALENDAR
