BEGIN:VCALENDAR
VERSION:2.0
PRODID:-//hacksw/handcal//NONSGML v1.0//EN
BEGIN:VEVENT
SUMMARY:J5-P2 | PONTIVY TT 4 / PLOEMEUR 56 TT4
UID:f94cb27f-9a28-49c9-8f79-3cac20d98950
DTSTART:20260408T183000Z
DTEND:20260408T214500Z
LOCATION:Localisation   
CATEGORIES:Sportif
STATUS:
URL;VALUE=URI:https://www.pontivy-tennisdetable.com/evenements/2026/04/08/j5-p2-pontivy-tt-4-ploemeur-56-tt4-2439953
END:VEVENT
END:VCALENDAR
