BEGIN:VCALENDAR
VERSION:2.0
PRODID:-//hacksw/handcal//NONSGML v1.0//EN
BEGIN:VEVENT
SUMMARY:J5-P2 | PONTIVY TT 1 / BAUD TT2
UID:3d30781f-396b-4f99-af42-75c98bed2dab
DTSTART:20260408T183000Z
DTEND:20260408T214500Z
LOCATION:Localisation   
CATEGORIES:Sportif
STATUS:
URL;VALUE=URI:https://www.pontivy-tennisdetable.com/evenements/2026/04/08/j5-p2-pontivy-tt-1-baud-tt2-2439951
END:VEVENT
END:VCALENDAR
